BEGIN:VCALENDAR
VERSION:2.0
PRODID:-//Ingwina Ferræden - ECPv6.15.20//NONSGML v1.0//EN
CALSCALE:GREGORIAN
METHOD:PUBLISH
X-ORIGINAL-URL:https://ingwine.org
X-WR-CALDESC:Events for Ingwina Ferræden
REFRESH-INTERVAL;VALUE=DURATION:PT1H
X-Robots-Tag:noindex
X-PUBLISHED-TTL:PT1H
BEGIN:VTIMEZONE
TZID:America/Denver
BEGIN:DAYLIGHT
TZOFFSETFROM:-0700
TZOFFSETTO:-0600
TZNAME:MDT
DTSTART:20240310T090000
END:DAYLIGHT
BEGIN:STANDARD
TZOFFSETFROM:-0600
TZOFFSETTO:-0700
TZNAME:MST
DTSTART:20241103T080000
END:STANDARD
BEGIN:DAYLIGHT
TZOFFSETFROM:-0700
TZOFFSETTO:-0600
TZNAME:MDT
DTSTART:20250309T090000
END:DAYLIGHT
BEGIN:STANDARD
TZOFFSETFROM:-0600
TZOFFSETTO:-0700
TZNAME:MST
DTSTART:20251102T080000
END:STANDARD
BEGIN:DAYLIGHT
TZOFFSETFROM:-0700
TZOFFSETTO:-0600
TZNAME:MDT
DTSTART:20260308T090000
END:DAYLIGHT
BEGIN:STANDARD
TZOFFSETFROM:-0600
TZOFFSETTO:-0700
TZNAME:MST
DTSTART:20261101T080000
END:STANDARD
END:VTIMEZONE
BEGIN:VEVENT
DTSTART;VALUE=DATE:20250221
DTEND;VALUE=DATE:20250222
DTSTAMP:20260424T053342
CREATED:20250111T213455Z
LAST-MODIFIED:20250111T213645Z
UID:4445-1740096000-1740182399@ingwine.org
SUMMARY:Northern Hemisphere: Biikenbrennen
DESCRIPTION:As the first fitful stirrings of Spring draw near\, it is an opportune moment for us in the modern Heathen community to honor the god Woden\, and also celebrate our cherished relationships\, drawing inspiration from both ancient warrior rituals and the tender farewells of Anglo-Saxon Age mariners. \n 
URL:https://ingwine.org/event/northern-hemisphere-biikenbrennen/
CATEGORIES:Holiday
ATTACH;FMTTYPE=image/webp:https://ingwine.org/wp-content/uploads/2025/01/fire-1.webp
END:VEVENT
END:VCALENDAR