BEGIN:VCALENDAR
VERSION:2.0
PRODID:-//Ingwina Ferræden - ECPv6.15.20//NONSGML v1.0//EN
CALSCALE:GREGORIAN
METHOD:PUBLISH
X-WR-CALNAME:Ingwina Ferræden
X-ORIGINAL-URL:https://ingwine.org
X-WR-CALDESC:Events for Ingwina Ferræden
REFRESH-INTERVAL;VALUE=DURATION:PT1H
X-Robots-Tag:noindex
X-PUBLISHED-TTL:PT1H
BEGIN:VTIMEZONE
TZID:Europe/London
BEGIN:DAYLIGHT
TZOFFSETFROM:+0000
TZOFFSETTO:+0100
TZNAME:BST
DTSTART:20230326T010000
END:DAYLIGHT
BEGIN:STANDARD
TZOFFSETFROM:+0100
TZOFFSETTO:+0000
TZNAME:GMT
DTSTART:20231029T010000
END:STANDARD
BEGIN:DAYLIGHT
TZOFFSETFROM:+0000
TZOFFSETTO:+0100
TZNAME:BST
DTSTART:20240331T010000
END:DAYLIGHT
BEGIN:STANDARD
TZOFFSETFROM:+0100
TZOFFSETTO:+0000
TZNAME:GMT
DTSTART:20241027T010000
END:STANDARD
BEGIN:DAYLIGHT
TZOFFSETFROM:+0000
TZOFFSETTO:+0100
TZNAME:BST
DTSTART:20250330T010000
END:DAYLIGHT
BEGIN:STANDARD
TZOFFSETFROM:+0100
TZOFFSETTO:+0000
TZNAME:GMT
DTSTART:20251026T010000
END:STANDARD
BEGIN:DAYLIGHT
TZOFFSETFROM:+0000
TZOFFSETTO:+0100
TZNAME:BST
DTSTART:20260329T010000
END:DAYLIGHT
BEGIN:STANDARD
TZOFFSETFROM:+0100
TZOFFSETTO:+0000
TZNAME:GMT
DTSTART:20261025T010000
END:STANDARD
END:VTIMEZONE
BEGIN:VTIMEZONE
TZID:America/Denver
BEGIN:DAYLIGHT
TZOFFSETFROM:-0700
TZOFFSETTO:-0600
TZNAME:MDT
DTSTART:20200308T090000
END:DAYLIGHT
BEGIN:STANDARD
TZOFFSETFROM:-0600
TZOFFSETTO:-0700
TZNAME:MST
DTSTART:20201101T080000
END:STANDARD
BEGIN:DAYLIGHT
TZOFFSETFROM:-0700
TZOFFSETTO:-0600
TZNAME:MDT
DTSTART:20210314T090000
END:DAYLIGHT
BEGIN:STANDARD
TZOFFSETFROM:-0600
TZOFFSETTO:-0700
TZNAME:MST
DTSTART:20211107T080000
END:STANDARD
BEGIN:DAYLIGHT
TZOFFSETFROM:-0700
TZOFFSETTO:-0600
TZNAME:MDT
DTSTART:20220313T090000
END:DAYLIGHT
BEGIN:STANDARD
TZOFFSETFROM:-0600
TZOFFSETTO:-0700
TZNAME:MST
DTSTART:20221106T080000
END:STANDARD
BEGIN:DAYLIGHT
TZOFFSETFROM:-0700
TZOFFSETTO:-0600
TZNAME:MDT
DTSTART:20230312T090000
END:DAYLIGHT
BEGIN:STANDARD
TZOFFSETFROM:-0600
TZOFFSETTO:-0700
TZNAME:MST
DTSTART:20231105T080000
END:STANDARD
BEGIN:DAYLIGHT
TZOFFSETFROM:-0700
TZOFFSETTO:-0600
TZNAME:MDT
DTSTART:20240310T090000
END:DAYLIGHT
BEGIN:STANDARD
TZOFFSETFROM:-0600
TZOFFSETTO:-0700
TZNAME:MST
DTSTART:20241103T080000
END:STANDARD
BEGIN:DAYLIGHT
TZOFFSETFROM:-0700
TZOFFSETTO:-0600
TZNAME:MDT
DTSTART:20250309T090000
END:DAYLIGHT
BEGIN:STANDARD
TZOFFSETFROM:-0600
TZOFFSETTO:-0700
TZNAME:MST
DTSTART:20251102T080000
END:STANDARD
BEGIN:DAYLIGHT
TZOFFSETFROM:-0700
TZOFFSETTO:-0600
TZNAME:MDT
DTSTART:20260308T090000
END:DAYLIGHT
BEGIN:STANDARD
TZOFFSETFROM:-0600
TZOFFSETTO:-0700
TZNAME:MST
DTSTART:20261101T080000
END:STANDARD
END:VTIMEZONE
BEGIN:VEVENT
DTSTART;VALUE=DATE:20251221
DTEND;VALUE=DATE:20251222
DTSTAMP:20260423T180133
CREATED:20251222T230850Z
LAST-MODIFIED:20251222T234520Z
UID:5684-1766275200-1766361599@ingwine.org
SUMMARY:Northern Hemisphere: Æfterra Gēola begins at sundown
DESCRIPTION:
URL:https://ingwine.org/event/aefterra-geola-begins-at-sundown/
CATEGORIES:Lunisolar Calendar,Northern Hemisphere
END:VEVENT
BEGIN:VEVENT
DTSTART;VALUE=DATE:20250726
DTEND;VALUE=DATE:20250727
DTSTAMP:20260423T180133
CREATED:20250421T194512Z
LAST-MODIFIED:20250421T200508Z
UID:4708-1753488000-1753574399@ingwine.org
SUMMARY:Northern Hemisphere: Bendfeorm
DESCRIPTION:During this time\, the first grain harvest would be underway\, and likely would be celebrated with beer\, and a feast prepared from the season’s first bounty. The attested name Bendfeorm literally means “binding feast”\, and stems from the binding of corn stalks after mowing. This would be an excellent time to give thanks to Beowa\, the Grain Spirit\, for the bounty that we or others on our behalf\, are gathering in during the waning days of Summer.
URL:https://ingwine.org/event/bendfeorm/
CATEGORIES:Holiday
ATTACH;FMTTYPE=image/jpeg:https://ingwine.org/wp-content/uploads/2025/04/IMG_3802.jpeg
END:VEVENT
BEGIN:VEVENT
DTSTART;VALUE=DATE:20250620
DTEND;VALUE=DATE:20250622
DTSTAMP:20260423T180133
CREATED:20250421T194215Z
LAST-MODIFIED:20250421T200411Z
UID:4705-1750377600-1750550399@ingwine.org
SUMMARY:Northern Hemisphere: Midsumordæg
DESCRIPTION:In Ingwine Heathenship\, Midsummer celebrations serve to honor and celebrate the summer solstice\, the longest day of the year. These celebrations are deeply rooted in ancient pagan traditions and revolve around themes of honoring the sun\, celebrating nature’s bounty\, and fostering a sense of community and camaraderie. People partake in rituals\, feasting\, and various customs to symbolize the triumph of light over darkness and to invoke the power of the sun for prosperity\, protection\, and abundance in the coming months.
URL:https://ingwine.org/event/midsumordaeg/
CATEGORIES:Holiday
ATTACH;FMTTYPE=image/jpeg:https://ingwine.org/wp-content/uploads/2025/04/IMG_3800.jpeg
END:VEVENT
BEGIN:VEVENT
DTSTART;VALUE=DATE:20250430
DTEND;VALUE=DATE:20250501
DTSTAMP:20260423T180133
CREATED:20250421T193935Z
LAST-MODIFIED:20250421T200524Z
UID:4702-1745971200-1746057599@ingwine.org
SUMMARY:Northern Hemisphere: Blostm-freóls
DESCRIPTION:The Society celebrates Blostm-Freols\, a holiday dedicated to growth\, joy\, and the protection of crops and livestock\, as well as being a time for our local communities to gather and discuss business.
URL:https://ingwine.org/event/blostm-freols/
CATEGORIES:Holiday
ATTACH;FMTTYPE=image/jpeg:https://ingwine.org/wp-content/uploads/2025/04/IMG_3066.jpeg
END:VEVENT
BEGIN:VEVENT
DTSTART;VALUE=DATE:20250412
DTEND;VALUE=DATE:20250414
DTSTAMP:20260423T180133
CREATED:20250211T175809Z
LAST-MODIFIED:20250211T180413Z
UID:4576-1744416000-1744588799@ingwine.org
SUMMARY:Northern Hemisphere: Eáster-dæg
DESCRIPTION:Celebrate the coming of spring and the renewal of life at Eáster-dæg\, a traditional festival honoring the goddess Eostre and the turning of the seasons. Marked by the full moon of April\, this is a time of joy\, feasting\, and fellowship\, as we bid farewell to winter and welcome the lengthening days of light.
URL:https://ingwine.org/event/northern-hemisphere-easter-daeg/
CATEGORIES:Holiday
ATTACH;FMTTYPE=image/jpeg:https://ingwine.org/wp-content/uploads/2024/01/cropped-cropped-cropped-ring-sanct-scaled-2.jpg
END:VEVENT
BEGIN:VEVENT
DTSTART;VALUE=DATE:20250314
DTEND;VALUE=DATE:20250316
DTSTAMP:20260423T180133
CREATED:20250111T214844Z
LAST-MODIFIED:20250211T175525Z
UID:4449-1741910400-1742083199@ingwine.org
SUMMARY:Northern Hemisphere: Lencten-tíd Festival
DESCRIPTION:While it is related the modern English word “Lent”\, in Old English\, Lencten-tíd simply means “Spring time”. In our calendar\, the feast of Hréðe and Hludana takes place on or before the full moon in Hréð-mōnaþ. \n 
URL:https://ingwine.org/event/northern-hemisphere-lencten-tid-festival/
CATEGORIES:Holiday
ATTACH;FMTTYPE=image/webp:https://ingwine.org/wp-content/uploads/2025/01/snowdrops.webp
END:VEVENT
BEGIN:VEVENT
DTSTART;VALUE=DATE:20250221
DTEND;VALUE=DATE:20250222
DTSTAMP:20260423T180133
CREATED:20250111T213455Z
LAST-MODIFIED:20250111T213645Z
UID:4445-1740096000-1740182399@ingwine.org
SUMMARY:Northern Hemisphere: Biikenbrennen
DESCRIPTION:As the first fitful stirrings of Spring draw near\, it is an opportune moment for us in the modern Heathen community to honor the god Woden\, and also celebrate our cherished relationships\, drawing inspiration from both ancient warrior rituals and the tender farewells of Anglo-Saxon Age mariners. \n 
URL:https://ingwine.org/event/northern-hemisphere-biikenbrennen/
CATEGORIES:Holiday
ATTACH;FMTTYPE=image/webp:https://ingwine.org/wp-content/uploads/2025/01/fire-1.webp
END:VEVENT
BEGIN:VEVENT
DTSTART;VALUE=DATE:20250212
DTEND;VALUE=DATE:20250214
DTSTAMP:20260423T180133
CREATED:20250111T212054Z
LAST-MODIFIED:20250211T173838Z
UID:4443-1739318400-1739491199@ingwine.org
SUMMARY:Northern Hemisphere: Āwæcnungdæg
DESCRIPTION:The First Day of Foran-lencten\nThe festival begins with Awakening Day\, dedicated to the awakening of Gerd\, the Goddess of the frozen Earth of the cultivated enclosure\, and her symbolic retrieval by Ing-Frea\, the god of fertility and growth. \nThis festival officially begins with the sundown on the day upon which the Full Moon is visible at Dusk. In 2025 we have placed it at Sundown on the 12th of February. \nNine nights later when the wedding of the god and goddess is sanctified by Woden\, will be the celebration of Bēacnbærning or Biikeenbrennen. \n 
URL:https://ingwine.org/event/northern-hemisphere-awaecnungdaeg/
CATEGORIES:Holiday
ATTACH;FMTTYPE=image/png:https://ingwine.org/wp-content/uploads/2024/10/seasons.png
END:VEVENT
BEGIN:VEVENT
DTSTART;TZID=Europe/London:20241225T173000
DTEND;TZID=Europe/London:20241226T173000
DTSTAMP:20260423T180133
CREATED:20241221T184527Z
LAST-MODIFIED:20241221T184527Z
UID:4362-1735147800-1735234200@ingwine.org
SUMMARY:Modraniht
DESCRIPTION:Modern Ingwine Heathenship venerates the powerful feminine ancestral spirits known as Idese. These figures\, associated with the Matres and Matronae of Northwestern Europe\, are today seen as fertility goddesses\, shapers of fate\, and numinous beings who grant luck and prosperity to individuals and families.
URL:https://ingwine.org/event/modraniht/
CATEGORIES:Holiday
END:VEVENT
BEGIN:VEVENT
DTSTART;TZID=America/Denver:20240810T150000
DTEND;TZID=America/Denver:20240810T170000
DTSTAMP:20260423T180133
CREATED:20240716T212958Z
LAST-MODIFIED:20240716T212958Z
UID:3867-1723302000-1723309200@ingwine.org
SUMMARY:Virtual Symbel - Online Meetup
DESCRIPTION:The Online Symbel is part virtual happy hour\, part solemn ritual\, part Q&A session. Join us if you are able\, and interact with other Ingwine Heathens from around the world! \nWhat you need: Some mild alcoholic or non-alcoholic drink a drinking vessel\, an open mind\, and a willingness to participate! \nhttps://ingwine.org/lorehoard/symbel/ \n  \nOpening: \n•Welcome and Introduction: The host greets participants\, briefly explaining the purpose and structure of the symbel. \n•Setting the Tone: The host sets a respectful and solemn tone\, emphasizing the significance of the symbel in Heathen traditions. \nThree Rounds of Toasts: \n1.Round One: To the Gods and Goddesses \n•Participants take turns toasting to the deities\, sharing their dedications and reasons for the toast. \n•The host may start with an example toast to set the stage. \n2.Round Two: To the Ancestors \n•Participants toast to their ancestors\, honoring their memory and sharing personal stories or reflections. \n•The host ensures everyone has the opportunity to speak\, fostering a sense of community. \n3.Round Three: To the Folk \n•Participants toast to the Heathen community\, expressing gratitude\, hopes\, and commitments to the group’s well-being. \n•The host encourages inclusive and positive messages. \nQ&A Session: \n•Open Floor: Participants ask questions about Heathen practices\, beliefs\, and the community. \n•Guided Discussion: The host moderates the discussion\, ensuring everyone has a chance to speak and that the conversation remains respectful and on-topic. \nClosing: \n•Final Remarks: The host thanks participants for their contributions and reinforces the importance of unity and mutual support. \n•Farewell and Next Steps: Information about upcoming events or ways to stay connected is shared.
URL:https://ingwine.org/event/virtual-symbel-online-meetup/
LOCATION:Ingwine Heathenship Discord
CATEGORIES:Pub Moots and Online Happy Hours
END:VEVENT
BEGIN:VEVENT
DTSTART;TZID=America/Denver:20210304T180000
DTEND;TZID=America/Denver:20210304T190000
DTSTAMP:20260423T180133
CREATED:20210218T072615Z
LAST-MODIFIED:20210218T233024Z
UID:404-1614880800-1614884400@ingwine.org
SUMMARY:Online Meadhall Happy Hour
DESCRIPTION:Bring a beverage\, and join us on Discord for a voice chat. If you want to propose topics for the Happy Hour\, post ’em here! \n 
URL:https://ingwine.org/event/online-meadhall-happy-hour/
LOCATION:Ingwine Heathenship Discord
CATEGORIES:Pub Moots and Online Happy Hours
END:VEVENT
END:VCALENDAR