BEGIN:VCALENDAR
VERSION:2.0
PRODID:-//Ingwina Ferræden - ECPv6.15.20//NONSGML v1.0//EN
CALSCALE:GREGORIAN
METHOD:PUBLISH
X-ORIGINAL-URL:https://ingwine.org
X-WR-CALDESC:Events for Ingwina Ferræden
REFRESH-INTERVAL;VALUE=DURATION:PT1H
X-Robots-Tag:noindex
X-PUBLISHED-TTL:PT1H
BEGIN:VTIMEZONE
TZID:Europe/London
BEGIN:DAYLIGHT
TZOFFSETFROM:+0000
TZOFFSETTO:+0100
TZNAME:BST
DTSTART:20240331T010000
END:DAYLIGHT
BEGIN:STANDARD
TZOFFSETFROM:+0100
TZOFFSETTO:+0000
TZNAME:GMT
DTSTART:20241027T010000
END:STANDARD
BEGIN:DAYLIGHT
TZOFFSETFROM:+0000
TZOFFSETTO:+0100
TZNAME:BST
DTSTART:20250330T010000
END:DAYLIGHT
BEGIN:STANDARD
TZOFFSETFROM:+0100
TZOFFSETTO:+0000
TZNAME:GMT
DTSTART:20251026T010000
END:STANDARD
BEGIN:DAYLIGHT
TZOFFSETFROM:+0000
TZOFFSETTO:+0100
TZNAME:BST
DTSTART:20260329T010000
END:DAYLIGHT
BEGIN:STANDARD
TZOFFSETFROM:+0100
TZOFFSETTO:+0000
TZNAME:GMT
DTSTART:20261025T010000
END:STANDARD
BEGIN:DAYLIGHT
TZOFFSETFROM:+0000
TZOFFSETTO:+0100
TZNAME:BST
DTSTART:20270328T010000
END:DAYLIGHT
BEGIN:STANDARD
TZOFFSETFROM:+0100
TZOFFSETTO:+0000
TZNAME:GMT
DTSTART:20271031T010000
END:STANDARD
END:VTIMEZONE
BEGIN:VTIMEZONE
TZID:America/Denver
BEGIN:DAYLIGHT
TZOFFSETFROM:-0700
TZOFFSETTO:-0600
TZNAME:MDT
DTSTART:20250309T090000
END:DAYLIGHT
BEGIN:STANDARD
TZOFFSETFROM:-0600
TZOFFSETTO:-0700
TZNAME:MST
DTSTART:20251102T080000
END:STANDARD
BEGIN:DAYLIGHT
TZOFFSETFROM:-0700
TZOFFSETTO:-0600
TZNAME:MDT
DTSTART:20260308T090000
END:DAYLIGHT
BEGIN:STANDARD
TZOFFSETFROM:-0600
TZOFFSETTO:-0700
TZNAME:MST
DTSTART:20261101T080000
END:STANDARD
BEGIN:DAYLIGHT
TZOFFSETFROM:-0700
TZOFFSETTO:-0600
TZNAME:MDT
DTSTART:20270314T090000
END:DAYLIGHT
BEGIN:STANDARD
TZOFFSETFROM:-0600
TZOFFSETTO:-0700
TZNAME:MST
DTSTART:20271107T080000
END:STANDARD
END:VTIMEZONE
BEGIN:VEVENT
DTSTART;VALUE=DATE:20250412
DTEND;VALUE=DATE:20250414
DTSTAMP:20260424T094302
CREATED:20250211T175809Z
LAST-MODIFIED:20250211T180413Z
UID:4576-1744416000-1744588799@ingwine.org
SUMMARY:Northern Hemisphere: Eáster-dæg
DESCRIPTION:Celebrate the coming of spring and the renewal of life at Eáster-dæg\, a traditional festival honoring the goddess Eostre and the turning of the seasons. Marked by the full moon of April\, this is a time of joy\, feasting\, and fellowship\, as we bid farewell to winter and welcome the lengthening days of light.
URL:https://ingwine.org/event/northern-hemisphere-easter-daeg/
CATEGORIES:Holiday
ATTACH;FMTTYPE=image/jpeg:https://ingwine.org/wp-content/uploads/2024/01/cropped-cropped-cropped-ring-sanct-scaled-2.jpg
END:VEVENT
BEGIN:VEVENT
DTSTART;VALUE=DATE:20250430
DTEND;VALUE=DATE:20250501
DTSTAMP:20260424T094302
CREATED:20250421T193935Z
LAST-MODIFIED:20250421T200524Z
UID:4702-1745971200-1746057599@ingwine.org
SUMMARY:Northern Hemisphere: Blostm-freóls
DESCRIPTION:The Society celebrates Blostm-Freols\, a holiday dedicated to growth\, joy\, and the protection of crops and livestock\, as well as being a time for our local communities to gather and discuss business.
URL:https://ingwine.org/event/blostm-freols/
CATEGORIES:Holiday
ATTACH;FMTTYPE=image/jpeg:https://ingwine.org/wp-content/uploads/2025/04/IMG_3066.jpeg
END:VEVENT
BEGIN:VEVENT
DTSTART;VALUE=DATE:20250620
DTEND;VALUE=DATE:20250622
DTSTAMP:20260424T094302
CREATED:20250421T194215Z
LAST-MODIFIED:20250421T200411Z
UID:4705-1750377600-1750550399@ingwine.org
SUMMARY:Northern Hemisphere: Midsumordæg
DESCRIPTION:In Ingwine Heathenship\, Midsummer celebrations serve to honor and celebrate the summer solstice\, the longest day of the year. These celebrations are deeply rooted in ancient pagan traditions and revolve around themes of honoring the sun\, celebrating nature’s bounty\, and fostering a sense of community and camaraderie. People partake in rituals\, feasting\, and various customs to symbolize the triumph of light over darkness and to invoke the power of the sun for prosperity\, protection\, and abundance in the coming months.
URL:https://ingwine.org/event/midsumordaeg/
CATEGORIES:Holiday
ATTACH;FMTTYPE=image/jpeg:https://ingwine.org/wp-content/uploads/2025/04/IMG_3800.jpeg
END:VEVENT
BEGIN:VEVENT
DTSTART;VALUE=DATE:20250726
DTEND;VALUE=DATE:20250727
DTSTAMP:20260424T094302
CREATED:20250421T194512Z
LAST-MODIFIED:20250421T200508Z
UID:4708-1753488000-1753574399@ingwine.org
SUMMARY:Northern Hemisphere: Bendfeorm
DESCRIPTION:During this time\, the first grain harvest would be underway\, and likely would be celebrated with beer\, and a feast prepared from the season’s first bounty. The attested name Bendfeorm literally means “binding feast”\, and stems from the binding of corn stalks after mowing. This would be an excellent time to give thanks to Beowa\, the Grain Spirit\, for the bounty that we or others on our behalf\, are gathering in during the waning days of Summer.
URL:https://ingwine.org/event/bendfeorm/
CATEGORIES:Holiday
ATTACH;FMTTYPE=image/jpeg:https://ingwine.org/wp-content/uploads/2025/04/IMG_3802.jpeg
END:VEVENT
BEGIN:VEVENT
DTSTART;VALUE=DATE:20251221
DTEND;VALUE=DATE:20251222
DTSTAMP:20260424T094302
CREATED:20251222T230850Z
LAST-MODIFIED:20251222T234520Z
UID:5684-1766275200-1766361599@ingwine.org
SUMMARY:Northern Hemisphere: Æfterra Gēola begins at sundown
DESCRIPTION:
URL:https://ingwine.org/event/aefterra-geola-begins-at-sundown/
CATEGORIES:Lunisolar Calendar,Northern Hemisphere
END:VEVENT
BEGIN:VEVENT
DTSTART;VALUE=DATE:20260119
DTEND;VALUE=DATE:20260120
DTSTAMP:20260424T094302
CREATED:20251222T232852Z
LAST-MODIFIED:20251223T002835Z
UID:5693-1768780800-1768867199@ingwine.org
SUMMARY:Northern Hemisphere: Sol-mōnaþ begins at sundown
DESCRIPTION:
URL:https://ingwine.org/event/sol-monath-begins-at-sundown/
CATEGORIES:Lunisolar Calendar,Northern Hemisphere
END:VEVENT
BEGIN:VEVENT
DTSTART;VALUE=DATE:20260218
DTEND;VALUE=DATE:20260219
DTSTAMP:20260424T094302
CREATED:20251223T003026Z
LAST-MODIFIED:20251223T003233Z
UID:5699-1771372800-1771459199@ingwine.org
SUMMARY:Northern Hemisphere: Hrēþmōnaþ begins at sundown
DESCRIPTION:
URL:https://ingwine.org/event/northern-hemisphere-hrethmonath-begins-at-sundown/
END:VEVENT
BEGIN:VEVENT
DTSTART;VALUE=DATE:20260319
DTEND;VALUE=DATE:20260320
DTSTAMP:20260424T094302
CREATED:20251223T003603Z
LAST-MODIFIED:20251223T004358Z
UID:5701-1773878400-1773964799@ingwine.org
SUMMARY:Northern Hemisphere: Eostre month begins at sundown
DESCRIPTION:
URL:https://ingwine.org/event/northern-hemisphere-eastermonath-begins-at-sundown/
END:VEVENT
BEGIN:VEVENT
DTSTART;VALUE=DATE:20260418
DTEND;VALUE=DATE:20260419
DTSTAMP:20260424T094302
CREATED:20251223T003824Z
LAST-MODIFIED:20251223T003824Z
UID:5704-1776470400-1776556799@ingwine.org
SUMMARY:Northern Hemisphere: Þrimilcemōnaþ begins at sundown
DESCRIPTION:
URL:https://ingwine.org/event/northern-hemisphere-thrimilcemonath-begins-at-sundown/
END:VEVENT
BEGIN:VEVENT
DTSTART;VALUE=DATE:20260615
DTEND;VALUE=DATE:20260616
DTSTAMP:20260424T094302
CREATED:20251223T004457Z
LAST-MODIFIED:20251223T004457Z
UID:5707-1781481600-1781567999@ingwine.org
SUMMARY:Northern Hemisphere: Litha begins at sundown
DESCRIPTION:
URL:https://ingwine.org/event/northern-hemisphere-litha-begins-at-sundown/
END:VEVENT
BEGIN:VEVENT
DTSTART;TZID=America/Denver:20260619T080000
DTEND;TZID=America/Denver:20260622T110000
DTSTAMP:20260424T094302
CREATED:20251003T183845Z
LAST-MODIFIED:20251003T183845Z
UID:5599-1781856000-1782126000@ingwine.org
SUMMARY:Midsummer Moot 2026
DESCRIPTION:Midsummer Moot 2026 \n \n 
URL:https://ingwine.org/event/midsummer-moot-2026/
LOCATION:Glen Isle
ATTACH;FMTTYPE=image/webp:https://ingwine.org/wp-content/uploads/2025/10/glenl.webp
END:VEVENT
END:VCALENDAR